BEGIN:VCALENDAR
VERSION:2.0
PRODID:-//InvisionCommunity Events 4.7.23//EN
METHOD:PUBLISH
CALSCALE:GREGORIAN
REFRESH-INTERVAL:PT15M
X-PUBLISHED-TTL:PT15M
X-WR-CALNAME:Wszystkie kalendarze - Forum Pszczelarskie - Pasieka \"Banic
	ja\"
NAME:Wszystkie kalendarze - Forum Pszczelarskie - Pasieka \"Banic
	ja\"
BEGIN:VTIMEZONE
TZID:Europe/London
TZURL:http://tzurl.org/zoneinfo/Europe/London
X-LIC-LOCATION:Europe/London
BEGIN:DAYLIGHT
TZOFFSETFROM:+0000
TZOFFSETTO:+0100
TZNAME:BST
DTSTART:20230326T020000Z
RRULE:FREQ=YEARLY;BYMONTH=3;BYDAY=-1SU
END:DAYLIGHT
BEGIN:STANDARD
TZOFFSETFROM:+0100
TZOFFSETTO:+0000
TZNAME:GMT
DTSTART:20231029T020000Z
RRULE:FREQ=YEARLY;BYMONTH=10;BYDAY=-1SU
END:STANDARD
END:VTIMEZONE
BEGIN:VTIMEZONE
TZID:Europe/London
TZURL:http://tzurl.org/zoneinfo/Europe/London
X-LIC-LOCATION:Europe/London
BEGIN:DAYLIGHT
TZOFFSETFROM:+0000
TZOFFSETTO:+0100
TZNAME:BST
DTSTART:20210328T020000Z
RRULE:FREQ=YEARLY;BYMONTH=3;BYDAY=-1SU
END:DAYLIGHT
BEGIN:STANDARD
TZOFFSETFROM:+0100
TZOFFSETTO:+0000
TZNAME:GMT
DTSTART:20211031T020000Z
RRULE:FREQ=YEARLY;BYMONTH=10;BYDAY=-1SU
END:STANDARD
END:VTIMEZONE
BEGIN:VTIMEZONE
TZID:Europe/London
TZURL:http://tzurl.org/zoneinfo/Europe/London
X-LIC-LOCATION:Europe/London
BEGIN:DAYLIGHT
TZOFFSETFROM:+0000
TZOFFSETTO:+0100
TZNAME:BST
DTSTART:20190331T020000Z
RRULE:FREQ=YEARLY;BYMONTH=3;BYDAY=-1SU
END:DAYLIGHT
BEGIN:STANDARD
TZOFFSETFROM:+0100
TZOFFSETTO:+0000
TZNAME:GMT
DTSTART:20191027T020000Z
RRULE:FREQ=YEARLY;BYMONTH=10;BYDAY=-1SU
END:STANDARD
END:VTIMEZONE
BEGIN:VTIMEZONE
TZID:Europe/London
TZURL:http://tzurl.org/zoneinfo/Europe/London
X-LIC-LOCATION:Europe/London
BEGIN:DAYLIGHT
TZOFFSETFROM:+0000
TZOFFSETTO:+0100
TZNAME:BST
DTSTART:20170326T020000Z
RRULE:FREQ=YEARLY;BYMONTH=3;BYDAY=-1SU
END:DAYLIGHT
BEGIN:STANDARD
TZOFFSETFROM:+0100
TZOFFSETTO:+0000
TZNAME:GMT
DTSTART:20171029T020000Z
RRULE:FREQ=YEARLY;BYMONTH=10;BYDAY=-1SU
END:STANDARD
END:VTIMEZONE
BEGIN:VTIMEZONE
TZID:Europe/London
TZURL:http://tzurl.org/zoneinfo/Europe/London
X-LIC-LOCATION:Europe/London
BEGIN:DAYLIGHT
TZOFFSETFROM:+0000
TZOFFSETTO:+0100
TZNAME:BST
DTSTART:20160327T020000Z
RRULE:FREQ=YEARLY;BYMONTH=3;BYDAY=-1SU
END:DAYLIGHT
BEGIN:STANDARD
TZOFFSETFROM:+0100
TZOFFSETTO:+0000
TZNAME:GMT
DTSTART:20161030T020000Z
RRULE:FREQ=YEARLY;BYMONTH=10;BYDAY=-1SU
END:STANDARD
END:VTIMEZONE
BEGIN:VTIMEZONE
TZID:Europe/London
TZURL:http://tzurl.org/zoneinfo/Europe/London
X-LIC-LOCATION:Europe/London
BEGIN:DAYLIGHT
TZOFFSETFROM:+0000
TZOFFSETTO:+0100
TZNAME:BST
DTSTART:20150329T020000Z
RRULE:FREQ=YEARLY;BYMONTH=3;BYDAY=-1SU
END:DAYLIGHT
BEGIN:STANDARD
TZOFFSETFROM:+0100
TZOFFSETTO:+0000
TZNAME:GMT
DTSTART:20151025T020000Z
RRULE:FREQ=YEARLY;BYMONTH=10;BYDAY=-1SU
END:STANDARD
END:VTIMEZONE
BEGIN:VEVENT
SUMMARY:VII Mazowiecka Konferencja Pszczelarska w Mińsku Maz
DTSTAMP:20230316T061717Z
SEQUENCE:0
UID:15-1-4b083017ae9a5df5146f6927a883a402@pasiekapszczelarska.pl
ORGANIZER;CN="Paweł":forum@pasiekapszczelarska.pl
DESCRIPTION:\n	Więcej informacji w temacie:\n\n\n\n\n	 \n\n
DTSTART:20230317T230000Z
END:VEVENT
BEGIN:VEVENT
SUMMARY:Spotkanie integracyjne
DTSTAMP:20211001T101316Z
SEQUENCE:0
UID:14-1-4b083017ae9a5df5146f6927a883a402@pasiekapszczelarska.pl
ORGANIZER;CN="Paweł":forum@pasiekapszczelarska.pl
DESCRIPTION:\n\n	Jak w temacie 12.11.2021 odbędzie się spotkanie integ
	racyjno-sprawozdawcze  w  \"Malinowy Chruśniak\" w Łędławkach k. Biszt
	ynka\, zamykające sezon 2021 \n\n\n\n	Więcej informacji -  w tym temaci
	e :) - kliknij \n\n
DTSTART:20211111T230000Z
DTEND:20211113T230000Z
END:VEVENT
BEGIN:VEVENT
SUMMARY:Targi Smaki Regionów MTP Poznań
DTSTAMP:20210930T062837Z
SEQUENCE:0
UID:13-1-4b083017ae9a5df5146f6927a883a402@pasiekapszczelarska.pl
ORGANIZER;CN="Robi_Robson":forum@pasiekapszczelarska.pl
DESCRIPTION:\n	Najsmaczniejsza impreza w Kraju .\n\n	Targi i finał kraj
	owy konkursu Smaki Regionów .\n\n	Wstęp wolny po pobraniu darmowego bile
	tu : https://tobilet.pl/smaki-regionow-2021.html?utm_source=www \n\n	Jeśl
	i komuś po drodze \, to zapraszam na stoisko woj. warm-maz.\n
DTSTART;VALUE=DATE:20210902
DTEND;VALUE=DATE:20211005
END:VEVENT
BEGIN:VEVENT
SUMMARY:IV Łódzka Międzynarodowa Konferencja Pszczelarska w Burze
	ninie
DTSTAMP:20191031T211625Z
SEQUENCE:0
UID:12-1-4b083017ae9a5df5146f6927a883a402@pasiekapszczelarska.pl
ORGANIZER;CN="Paweł":forum@pasiekapszczelarska.pl
DESCRIPTION:\n\n	IV Łódzka Międzynarodowa Konferencja Pszczelarska w 
	Burzeninie 15-17.11.2019\n\n\n\n	http://www.wzp-lodz.com.pl/news/57c2c016-
	dec2-11e9-9604-525400d183e6\n\n
DTSTART;VALUE=DATE:20191115
DTEND;VALUE=DATE:20191118
END:VEVENT
BEGIN:VEVENT
SUMMARY:Konferencja: \"Dobre praktyki pszczelarskie. Biotechniczne m
	etody leczenia pszczół
DTSTAMP:20191029T201444Z
SEQUENCE:0
UID:11-1-4b083017ae9a5df5146f6927a883a402@pasiekapszczelarska.pl
ORGANIZER;CN="Paweł":forum@pasiekapszczelarska.pl
DESCRIPTION:\n\n	\n		\n			Warmińsko-Mazurski Ośrodek Doradztwa Rolnicz
	ego z siedzibą w Olsztynie\, zaprasza serdecznie na konferencję nt. \"Do
	bre praktyki pszczelarskie. Biotechniczne metody leczenia pszczół\". Kon
	ferencja odbędzie się 30 października 2019 r. o godz. 10:00\, w siedzib
	ie WMODR\, ul. Jagiellońska 91\, 10-356 Olsztyn.\n		\n\n		\n			Serdecznie
	 zapraszamy.\n		\n\n		\n			Prosimy o potwierdzenie chęci udziału w powy
	ższej konferencji do piątku 28 października 2019 r. \n		\n\n		\n			Oso
	ba do kontaktu: Jerzy Bancewicz\, tel: 89 526 44 39 w. 53 lub 697 632 064\
	, e-mail: j.bancewicz@w-modr.pl\n		\n	\n\n\n\n	https://wmodr.pl/informacje
	/1007 \n\n\n\n	 \n\n
DTSTART;VALUE=DATE:20191030
END:VEVENT
BEGIN:VEVENT
SUMMARY:Wojewódzki Dzień Pszczelarza w Kętrzynie
DTSTAMP:20190901T184047Z
SEQUENCE:1
UID:10-1-4b083017ae9a5df5146f6927a883a402@pasiekapszczelarska.pl
ORGANIZER;CN="Robi_Robson":forum@pasiekapszczelarska.pl
DESCRIPTION:Coroczne Święto Pszczelarzy z Warmii i Mazur .\nW tym roku
	 jest to również 60-lecie koła pszczelarzy w Kętrzynie
DTSTART;VALUE=DATE:20190908
END:VEVENT
BEGIN:VEVENT
SUMMARY:XXXV Ogólnopolskie Dni Pszczelarza w Koszalinie
DTSTAMP:20170125T171243Z
SEQUENCE:0
UID:9-1-4b083017ae9a5df5146f6927a883a402@pasiekapszczelarska.pl
ORGANIZER;CN="Robi_Robson":forum@pasiekapszczelarska.pl
DESCRIPTION:Organizator: Regionalny Związek Pszczelarzy w Koszalinie\nD
	ata i miejsce: 15 - 17 września 2017 r.\, Koszalin
DTSTART;VALUE=DATE:20170915
DTEND;VALUE=DATE:20170918
END:VEVENT
BEGIN:VEVENT
SUMMARY:Otwarcie Sezonu Pszczelarskiego w Radzyminie
DTSTAMP:20160315T073925Z
SEQUENCE:0
UID:6-1-4b083017ae9a5df5146f6927a883a402@pasiekapszczelarska.pl
ORGANIZER;CN="Robi_Robson":forum@pasiekapszczelarska.pl
DESCRIPTION:W tym roku przez dwa dni / sobota-niedziela  .\nLokalizacja 
	przy hurtowni pszczelarskiej Łysonia \n05-250 Radzymin\, ul. Wiejska 5 
DTSTART;VALUE=DATE:20160416
DTEND;VALUE=DATE:20160418
END:VEVENT
BEGIN:VEVENT
SUMMARY:Mazowiecka Konferencja Pszczelarska w Mińsku Maz.
DTSTAMP:20160215T180303Z
SEQUENCE:1
UID:5-1-4b083017ae9a5df5146f6927a883a402@pasiekapszczelarska.pl
ORGANIZER;CN="Paweł":forum@pasiekapszczelarska.pl
DESCRIPTION:\nStowarzyszenie Pszczelarzy Ziemi Mińskiej \n \nserdeczni
	e zaprasza na:\n \nII Mazowiecką Konferencję Pszczelarską w Mińsku Ma
	zowieckim.\n \n“Pomóżmy pszczołom przetrwać”\n \nktóra odbęd
	zie się\n \n13 marca 2016 roku\n \nw Zespole Szkół nr 1 przy ul. Budo
	wlanej 4\n \nProgram Konferencji:\n \n8:00-8:45 Rejestracja uczestników
	 Konferencji\n8:45-9:15 Uroczyste rozpoczęcie Konferencji \n9:15-11:15 dr
	 Zbigniew Lipiński – “Sposoby ochrony kondycji rodzin pszczelich w wa
	runkach skażenia i ubożenia pastwiska pszczelego” \n \n11:15-11:30 Pr
	zerwa kawowa\n \n11:30-13:20 dr Krystyna Pohorecka – \"Problematyka inw
	azji roztoczy V. destructor w krajowych pasiekach\, w świetle aktualnych 
	wyników badań\"\n \n13:20-14:00 Obiad\n \n14:00-15:30 dr Dariusz T
	eper – “Analiza pyłkowa - jedno z najważniejszych badań jakościow
	ych miodów”\n \n15:30-15:40 Przerwa kawowa\n \n15:40-16:40 mgr inż. 
	Cezary Kruk – “Jak prawidłowo unasienić matkę pszczelą”\n \n16:
	40-17:00 Panel dyskusyjny \n \nOkoło godz. 17:00 – Zakończenie Konfer
	encji\n \nUdział w Konferencji jest bezpłatny.\nIstnieje możliwość w
	ykupienia obiadu w cenie 15 zł\n- wpłaty na obiad przyjmujemy do 10.03.2
	016 na poniższy numer konta:\nBank BGŻ 81 2030 0045 1170 0000 0493 8670
	\n \nProsimy o potwierdzenie uczestnictwa do dnia 10 marca 2016r. na e-ma
	il:minscypszczelarze@minscypszczelarze.pl\nlub telefonicznie pod nr 607 57
	8 478\n \nPrzewidziana jest wystawa sprzętu pszczelarskiego\, stoiska z 
	książkami o tematyce pszczelarskiej oraz roślinami miododajnymi.\n
DTSTART;VALUE=DATE:20160313
END:VEVENT
BEGIN:VEVENT
SUMMARY:Wigilia VII Lubelskiej Konferencji Pszczelarskiej
DTSTAMP:20160212T174643Z
SEQUENCE:0
UID:4-1-4b083017ae9a5df5146f6927a883a402@pasiekapszczelarska.pl
ORGANIZER;CN="Robi_Robson":forum@pasiekapszczelarska.pl
DESCRIPTION:Okazja do integracji forumowiczów jeszcze przed rozpoczęci
	em konferencji .\nSpotykamy się już w czwartek przy kolacji 
DTSTART;VALUE=DATE:20160218
END:VEVENT
BEGIN:VEVENT
SUMMARY:XXIII Forum Pszczelarzy w Przysieku k./Torunia
DTSTAMP:20160212T174354Z
SEQUENCE:0
UID:3-1-4b083017ae9a5df5146f6927a883a402@pasiekapszczelarska.pl
ORGANIZER;CN="Robi_Robson":forum@pasiekapszczelarska.pl
DESCRIPTION:Forum pszczelarzy połączone z targami pszczelarskimi .\nNa
	jwiększe w regionie tego typu wydarzenie pszczelarskie .
DTSTART;VALUE=DATE:20160305
END:VEVENT
BEGIN:VEVENT
SUMMARY:VIII Świętokrzyskie Święto Pszczoły Bałtów
DTSTAMP:20150621T103203Z
SEQUENCE:0
UID:1-1-4b083017ae9a5df5146f6927a883a402@pasiekapszczelarska.pl
ORGANIZER;CN="Paweł":forum@pasiekapszczelarska.pl
DESCRIPTION:VIII Świętokrzyskie Święto Pszczoły JuraPark Bałtów 2
	015 \nNajwiększa Wystawa Sprzętu Pszczelarskiego \nPiątek 21.08 2015 \n
	11:00 - Rozpoczęcie Święta Pszczoły \ndo 18:00 - Targi pszczelarskie \
	ndo 21:00 – wspólne ognisko\, biesiada. \nSobota 22.08.2015 \n8:00-18:0
	0 - Otwarcie stoisk wystawowych\n10:00 – Otwarcie konferencji\, występ 
	prezydenta PZP. Konferencja naukowa poświęcona apiterapii. Tematyka wys
	tąpień naukowych dotyczyć będzie pyłku\, pierzgi\, propolisu itp. ora
	z zdrowotnych właściwości miodu\, jak również zastosowania produktów
	 pszczelich w inhalacji zdrowotnej (wykładowca ze Słowenii). \n14:00-15:
	00 przerwa obiadowa. \n15:00 - Występy zespołów regionalnych \n18:00 - 
	Występ zespołu folkowego TUHAJ BEJ - Gwiazda dnia\n19:30 - Występ zesp
	ołu METRUM\, zabawa taneczna dla wszystkich do 23:00 \nNiedziela 23.08.20
	15 \n8:00 - Otwarcie stoisk wystawowych. \n9:45 zbiórka przy kościele po
	d wezwaniem Matki Bożej Bolesnej \n10:00-11:00 - Msza św. \n11:00 -Przem
	arsz pocztów sztandarowych na Okręglicę\n11:30 - Oficjalne przemówieni
	a zaproszonych gości\, wręczenia odznaczeń \n13:00 - Występy regionaln
	ych zespołów ludowych \n16:00-21:00 zabawa taneczna przy zespole muzyczn
	ym \nW wystawie udział biorą największe firmy pszczelarskie z Polski\, 
	zarezerwowane są stoiska z państw ościennych\, w tym z Ukrainy\, Litwy\
	, Słowenii i Słowacji. 
DTSTART;VALUE=DATE:20150821
DTEND;VALUE=DATE:20150824
END:VEVENT
END:VCALENDAR
